BEGIN:VCALENDAR
VERSION:2.0
PRODID:-//alabamahabitat.org//NONSGML kigkonsult.se iCalcreator 2.30.10//
CALSCALE:GREGORIAN
METHOD:PUBLISH
UID:494bb044-02e8-4342-b0b5-fa5f2142421a
X-WR-CALDESC:Join us for a day of learning\, networking\, and celebrating t
 he work and accomplishments of the 28 Habitat for Humanity affiliates in A
 labama.\n\n<span style='color:#fa673a\;font-weight:bold\;'>When:</span>  A
 pril 30\, 2020\n\n<span style='color:#fa673a\;font-weight:bold\;'>Where:</
 span> 1st United Methodist Church\, Montgomery\, Alabama\n              24
 16 West Cloverdale Park\n              Montgomery\, AL 36106\n\n<span styl
 e='color:#fa673a\;font-weight:bold\;'>Cost:</span>  Single Ticket - $100\n
            1/2 Table Sponsorship- $350 (Includes 4 Tickets)\n            F
 ull Table Sponsorship- $700 (Includes 8 Tickets)\n<br /><p><a href='https:
 //alabamahabitat.org/main-events.html/event-form/2020-conference-banquet/4
 5474/tickets'>Click here to register</a>.<br /></p>
X-WR-RELCALID:e890bb4b352989bc8c657d62898cd8ea
X-WR-TIMEZONE:America/Chicago
BEGIN:VTIMEZONE
TZID:America/Chicago
BEGIN:STANDARD
TZNAME:CST
DTSTART:20191103T020000
TZOFFSETFROM:-0500
TZOFFSETTO:-0600
RDATE:20201101T020000
END:STANDARD
BEGIN:DAYLIGHT
TZNAME:CDT
DTSTART:20200308T020000
TZOFFSETFROM:-0600
TZOFFSETTO:-0500
RDATE:20210314T020000
END:DAYLIGHT
END:VTIMEZONE
BEGIN:VEVENT
UID:2bebfad3-f0aa-4490-bf1b-4785188d4b32
DTSTAMP:20260419T185404Z
DESCRIPTION:Join us for a day of learning\, networking\, and celebrating th
 e work and accomplishments of the 28 Habitat for Humanity affiliates in Al
 abama.\n\n<span style='color:#fa673a\;font-weight:bold\;'>When:</span>  Ap
 ril 30\, 2020\n\n<span style='color:#fa673a\;font-weight:bold\;'>Where:</s
 pan> 1st United Methodist Church\, Montgomery\, Alabama\n              241
 6 West Cloverdale Park\n              Montgomery\, AL 36106\n\n<span style
 ='color:#fa673a\;font-weight:bold\;'>Cost:</span>  Single Ticket - $100\n 
           1/2 Table Sponsorship- $350 (Includes 4 Tickets)\n            Fu
 ll Table Sponsorship- $700 (Includes 8 Tickets)\n<br /><p><a href='https:/
 /alabamahabitat.org/main-events.html/event-form/2020-conference-banquet/45
 474/tickets'>Click here to register</a>.<br /></p>
DTSTART;TZID=America/Chicago:20200430T000000
DTEND;TZID=America/Chicago:20200430T235900
LOCATION:
SUMMARY:2020 Alabama Habitat State Conference & Banquet
END:VEVENT
END:VCALENDAR
